BEGIN:VCALENDAR
VERSION:2.0
PRODID:-//Fort St. John Literacy Society - ECPv6.15.16//NONSGML v1.0//EN
CALSCALE:GREGORIAN
METHOD:PUBLISH
X-WR-CALNAME:Fort St. John Literacy Society
X-ORIGINAL-URL:http://fsjliteracy.ca
X-WR-CALDESC:Events for Fort St. John Literacy Society
REFRESH-INTERVAL;VALUE=DURATION:PT1H
X-Robots-Tag:noindex
X-PUBLISHED-TTL:PT1H
BEGIN:VTIMEZONE
TZID:America/Dawson_Creek
BEGIN:STANDARD
TZOFFSETFROM:-0700
TZOFFSETTO:-0700
TZNAME:MST
DTSTART:20250101T000000
END:STANDARD
END:VTIMEZONE
BEGIN:VEVENT
DTSTART;VALUE=DATE:20260126
DTEND;VALUE=DATE:20260127
DTSTAMP:20260420T091440
CREATED:20251210T013425Z
LAST-MODIFIED:20251210T013425Z
UID:2101-1769385600-1769471999@fsjliteracy.ca
SUMMARY:Scavenger Hunt
DESCRIPTION:
URL:http://fsjliteracy.ca/event/scavenger-hunt-2/
END:VEVENT
END:VCALENDAR