BEGIN:VCALENDAR
VERSION:2.0
PRODID:-//Fort St. John Literacy Society - ECPv6.15.16//NONSGML v1.0//EN
CALSCALE:GREGORIAN
METHOD:PUBLISH
X-ORIGINAL-URL:http://fsjliteracy.ca
X-WR-CALDESC:Events for Fort St. John Literacy Society
REFRESH-INTERVAL;VALUE=DURATION:PT1H
X-Robots-Tag:noindex
X-PUBLISHED-TTL:PT1H
BEGIN:VTIMEZONE
TZID:America/Dawson_Creek
BEGIN:STANDARD
TZOFFSETFROM:-0700
TZOFFSETTO:-0700
TZNAME:MST
DTSTART:20230101T000000
END:STANDARD
END:VTIMEZONE
BEGIN:VEVENT
DTSTART;TZID=America/Dawson_Creek:20240907T110000
DTEND;TZID=America/Dawson_Creek:20240907T150000
DTSTAMP:20260422T152352
CREATED:20240830T225853Z
LAST-MODIFIED:20240830T230046Z
UID:1137-1725706800-1725721200@fsjliteracy.ca
SUMMARY:Tie Dye Party
DESCRIPTION:Join us at the MooseFM Block Party to create your own tie dye t-shirt! We’ll have all the supplies you need (adult and youth sizes available). \nIt is a by donation event and all proceeds will support literacy programming in our area. \nSpecial thanks to our supports\, Enbridge and SJA Promo\, who have supplied all of the materials.
URL:http://fsjliteracy.ca/event/tie-dye-party/
LOCATION:Centennial Park\, 9522 100 Street\, Fort St. John\, BC\, Canada
CATEGORIES:Family Fun,Fundraiser
ATTACH;FMTTYPE=image/jpeg:http://fsjliteracy.ca/wordpress/wp-content/uploads/2024/08/Tie-Dye-3.jpg
END:VEVENT
END:VCALENDAR